BEGIN:VCALENDAR
VERSION:2.0
PRODID:-//ChurchDev//Events//EN
CALSCALE:GREGORIAN
METHOD:PUBLISH
BEGIN:VEVENT
UID:10031-20240612@www.tccentralumc.org
SUMMARY:Phoenix Boys Choir: Midwest Tour 2024 at Central!
DTSTART:20240612T230000Z
DTEND:20240613T000000Z
DESCRIPTION:https://www.tccentralumc.org/events/phoenix-boys-choir-midwest-tour-2024-at-central/
LOCATION:222 Cass St. Traverse City\, MI  49684
URL:https://www.tccentralumc.org/events/phoenix-boys-choir-midwest-tour-2024-at-central/
DTSTAMP:20260420T043802Z
END:VEVENT
END:VCALENDAR
