BEGIN:VCALENDAR
VERSION:2.0
PRODID:-//ChurchDev//Events//EN
CALSCALE:GREGORIAN
METHOD:PUBLISH
BEGIN:VEVENT
UID:10218-20241224@www.tccentralumc.org
SUMMARY:Christmas Eve 2024: Lessons &#038\; Carols
DTSTART:20241224T220000Z
DTEND:20241224T230000Z
DESCRIPTION:https://www.tccentralumc.org/events/christmas-eve-2024-lessons-carols/
LOCATION:222 Cass St. Traverse City\, MI  49684
URL:https://www.tccentralumc.org/events/christmas-eve-2024-lessons-carols/
DTSTAMP:20260421T111527Z
END:VEVENT
END:VCALENDAR
