BEGIN:VCALENDAR
VERSION:2.0
PRODID:-//ChurchDev//Events//EN
CALSCALE:GREGORIAN
METHOD:PUBLISH
BEGIN:VEVENT
UID:10271-20250115@www.tccentralumc.org
SUMMARY:Music Midweek Series: featuring The Horns of Traverse (Julie Schleif’s ensemble)
DTSTART:20250115T230000Z
DTEND:20250116T000000Z
DESCRIPTION:Music Midweek Series: January 15\, 2025 | 6 PM in the Sanctuary at Central\\n+ Add this event to my calendar +\\nWe are excited to kick-off our new Music Midweek Series featuring The Horns of Traverse (Julie Schleif&#8217\;s ensemble).  Join us for wonderful music and conversation from artists who share their intersectional stories of faith and artistry in music. Make sure to stay tuned for upcoming events in this new series. This event will take place the 3rd Wednesday of every month\, enjoy mus...\\n\\nhttps://www.tccentralumc.org/events/music-midweek-series-january-2025/
LOCATION:222 Cass St. Traverse City\, MI  49684
URL:https://www.tccentralumc.org/events/music-midweek-series-january-2025/
DTSTAMP:20260424T191100Z
END:VEVENT
END:VCALENDAR
