BEGIN:VCALENDAR
VERSION:2.0
PRODID:-//ChurchDev//Events//EN
CALSCALE:GREGORIAN
METHOD:PUBLISH
BEGIN:VEVENT
UID:10337-20250319@www.tccentralumc.org
SUMMARY:Music Midweek Series: March 2025: featuring Rev. Sam McClellan &#038\; Rev. Wava Hofmann on sacred American Indian music and dance
DTSTART:20250319T220000Z
DTEND:20250319T230000Z
DESCRIPTION:Join us at Traverse City Central United Methodist Church (222 Cass St in Downtown Traverse City) for our special lecture series feature for our Music Midweek Series on Wednesday\, March 19th from 6 pm to 7 pm in the Sanctuary at Central. This guest lecture series is a part of Music Midweek and will be featuring Rev. Sam McClellan &amp\; Rev. Wava Hofmann on sacred American Indian music and dance.\\n\\nhttps://www.tccentralumc.org/events/music-midweek-series-march-2025-featuring-rev-sam-mcclellan-rev-wava-hofmann-on-sacred-american-indian-music-and-dance/
LOCATION:222 Cass St. Traverse City\, MI  49684
URL:https://www.tccentralumc.org/events/music-midweek-series-march-2025-featuring-rev-sam-mcclellan-rev-wava-hofmann-on-sacred-american-indian-music-and-dance/
DTSTAMP:20260420T015406Z
END:VEVENT
END:VCALENDAR
