BEGIN:VCALENDAR
VERSION:2.0
PRODID:-//ChurchDev//Events//EN
CALSCALE:GREGORIAN
METHOD:PUBLISH
BEGIN:VEVENT
UID:10345-20250319@www.tccentralumc.org
SUMMARY:All Church Meal presented by Central Mission’s
DTSTART:20250319T210000Z
DTEND:20250319T220000Z
DESCRIPTION:https://www.tccentralumc.org/events/all-church-meal-presented-by-the-central-missions-team/
LOCATION:222 Cass St. Traverse City\, MI  49684
URL:https://www.tccentralumc.org/events/all-church-meal-presented-by-the-central-missions-team/
DTSTAMP:20260420T053806Z
END:VEVENT
END:VCALENDAR
