BEGIN:VCALENDAR
VERSION:2.0
PRODID:-//ChurchDev//Events//EN
CALSCALE:GREGORIAN
METHOD:PUBLISH
BEGIN:VEVENT
UID:10673-20250809@www.tccentralumc.org
SUMMARY:Celebration for Ms. Lucy at Suttons Bay Beach
DTSTART:20250809T140000Z
DTEND:20250809T170000Z
DESCRIPTION:Let&#8217\;s celebrate Ms. Lucy&#8217\;s next chapter.\\nSaturday\, August 9th\\nSuttons Bay Beach\\n 10 am-1 pm\\n\\nWe will bring the pizza and juice boxes\, and water jug\, and some healthy snacks\, you bring anything else you might need. Lunch at noon.\\nWe will have a kid’s station for the kids to add their favorite thing about Ms. Lucy to a jar.\\nFace/hand painting by Isabelle &amp\; Erica\\nBeach time community &amp\; fun\\n\\nContact Erica Kozlowski for more info: erica@tccentralumc.org\\n&nbsp\;\\n\\nhttps://www.tccentralumc.org/events/celebration-for-ms-lucy-at-suttons-bay-beach/
LOCATION:222 Cass St. Traverse City\, MI  49684
URL:https://www.tccentralumc.org/events/celebration-for-ms-lucy-at-suttons-bay-beach/
DTSTAMP:20260420T085128Z
END:VEVENT
END:VCALENDAR
