BEGIN:VCALENDAR
VERSION:2.0
PRODID:-//ChurchDev//Events//EN
CALSCALE:GREGORIAN
METHOD:PUBLISH
BEGIN:VEVENT
UID:10940-20260402@www.tccentralumc.org
SUMMARY:Maundy Thursday Passover Seder Observance with Congregation Beth Shalom
DTSTART:20260402T220000Z
DTEND:20260403T000000Z
DESCRIPTION:Maundy Thursday Passover Seder Observance\\n\\n\\n\\n\\n\\n\\nLimited Seating &#8212\; reserve your spot today by clicking here!\\nCongregation Beth Shalom and Rabbi Arnie Sleutelberg have invited us to an authentic Passover Seder meal here at Central for Maundy Thursday! This is a special opportunity to walk with our Jewish siblings for this tradition\, which features traditional foods and music as the story of Passover is shared. Maundy Thursday\, the Last Supper\, is believed to have been a Passover ...\\n\\nhttps://www.tccentralumc.org/events/maundy-thursday-passover-seder-observance-potluck/
LOCATION:222 Cass St. Traverse City\, MI  49684
URL:https://www.tccentralumc.org/events/maundy-thursday-passover-seder-observance-potluck/
DTSTAMP:20260420T050343Z
END:VEVENT
END:VCALENDAR
