BEGIN:VCALENDAR
VERSION:2.0
PRODID:-//ChurchDev//Events//EN
CALSCALE:GREGORIAN
METHOD:PUBLISH
BEGIN:VEVENT
UID:11116-20260401@www.tccentralumc.org
SUMMARY:UWF Bible Study
DTSTART:20260401T151500Z
DTEND:20260401T161500Z
DESCRIPTION:United Women in Faith Bible Study at 11:15am &#8211\; 12:00pm in the Lounge with dovetailing UWF Lunch Bunch every 1st Wednesday of the month\, September through May.\\n\\nhttps://www.tccentralumc.org/events/uwf-bible-study/
LOCATION:222 Cass St. Traverse City\, MI  49684
URL:https://www.tccentralumc.org/events/uwf-bible-study/
DTSTAMP:20260420T025128Z
END:VEVENT
END:VCALENDAR
