BEGIN:VCALENDAR
VERSION:2.0
PRODID:-//ChurchDev//Events//EN
CALSCALE:GREGORIAN
METHOD:PUBLISH
BEGIN:VEVENT
UID:11117-20260401@www.tccentralumc.org
SUMMARY:UWF Lunch Bunch
DTSTART:20260401T160000Z
DTEND:20260401T170000Z
DESCRIPTION:https://www.tccentralumc.org/events/uwf-lunch-bunch/
LOCATION:222 Cass St. Traverse City\, MI  49684
URL:https://www.tccentralumc.org/events/uwf-lunch-bunch/
DTSTAMP:20260420T025126Z
END:VEVENT
END:VCALENDAR
