BEGIN:VCALENDAR
VERSION:2.0
PRODID:-//ChurchDev//Events//EN
CALSCALE:GREGORIAN
METHOD:PUBLISH
BEGIN:VEVENT
UID:11139-20260425@www.tccentralumc.org
SUMMARY:Celebration of Life: Joy Hamm
DTSTART:20260425T150000Z
DTEND:20260425T160000Z
DESCRIPTION:Celebration of Life Service for Joy Hamm | Saturday\, April 25\\n10am visitation 11am service\\nLuncheon to follow\\nCentral United Methodist Church &#8211\; Traverse City\\n222 Cass St. Traverse City\, MI 49684\\nLearn more about Joy&#8217\;s legacy: https://www.reynolds-jonkhoff.com/obituaries/joy-hamm\\n\\nhttps://www.tccentralumc.org/events/celebration-of-life-joy-hamm/
LOCATION:222 Cass St. Traverse City\, MI  49684
URL:https://www.tccentralumc.org/events/celebration-of-life-joy-hamm/
DTSTAMP:20260423T123704Z
END:VEVENT
END:VCALENDAR
