BEGIN:VCALENDAR
VERSION:2.0
PRODID:-//ChurchDev//Events//EN
CALSCALE:GREGORIAN
METHOD:PUBLISH
BEGIN:VEVENT
UID:8499-20250921@www.tccentralumc.org
SUMMARY:Adult Ministry – Faithlink Discussion Group
DTSTART:20250921T140000Z
DTEND:20250921T144500Z
DESCRIPTION:All are welcome to join this weekly discussion group! Historically\, we have touched on current faith and world events. For the 2025 season\, we&#8217\;ve decided to take a new approach. We will be viewing THE CHOSEN series during class with follow up discussion. No need to prepare ahead of time\, and come when you can!\\nPlease contact Staton Lorenz  at ntpockets51@gmail.com for more details.\\n\\nhttps://www.tccentralumc.org/events/faithlink/
LOCATION:222 Cass St. Traverse City\, MI  49684
URL:https://www.tccentralumc.org/events/faithlink/
DTSTAMP:20260420T065042Z
END:VEVENT
END:VCALENDAR
