BEGIN:VCALENDAR
VERSION:2.0
PRODID:-//ChurchDev//Events//EN
CALSCALE:GREGORIAN
METHOD:PUBLISH
BEGIN:VEVENT
UID:8625-20221030@www.tccentralumc.org
SUMMARY:Discussion Group &#8211\; Surprising Humor of The Bible (zoom)
DTSTART:20221030T220000Z
DTEND:20221030T230000Z
DESCRIPTION:https://www.tccentralumc.org/events/discussion-group-surprising-humor-of-the-bible-zoom/
LOCATION:222 Cass St. Traverse City\, MI  49684
URL:https://www.tccentralumc.org/events/discussion-group-surprising-humor-of-the-bible-zoom/
DTSTAMP:20260425T014451Z
END:VEVENT
END:VCALENDAR
