BEGIN:VCALENDAR
VERSION:2.0
PRODID:-//ChurchDev//Events//EN
CALSCALE:GREGORIAN
METHOD:PUBLISH
BEGIN:VEVENT
UID:8921-20230302@www.tccentralumc.org
SUMMARY:Discussion and Fellowship – Central Moms “Bless this Lent” &#8211\; via ZOOM
DTSTART:20230303T000000Z
DTEND:20230303T010000Z
DESCRIPTION:Central Moms is a small group that meets periodically throughout the year for friendship and fellowship. All moms with kids (no matter the age) are invited to participate. Most of our meetings happen over Zoom and include devotion\, prayer and conversation.\\nJoin our Facebook group for the most up to date information! Facebook.com/groups/momscentralumc\\nPlease join us for Central Moms Lenten Devotions and Connections! \\nOn several Thursday evenings during lent\, Central Moms will gather over Zo...\\n\\nhttps://www.tccentralumc.org/events/discussion-and-fellowship-central-moms-bless-this-lent/
LOCATION:222 Cass St. Traverse City\, MI  49684
URL:https://www.tccentralumc.org/events/discussion-and-fellowship-central-moms-bless-this-lent/
DTSTAMP:20260425T123132Z
END:VEVENT
END:VCALENDAR
