BEGIN:VCALENDAR
VERSION:2.0
PRODID:-//ChurchDev//Events//EN
CALSCALE:GREGORIAN
METHOD:PUBLISH
BEGIN:VEVENT
UID:9404-20240417@www.tccentralumc.org
SUMMARY:All Church Meal – Whitefish Dinner –  to benefit Our Neighbor’s Garden
DTSTART:20240417T210000Z
DTEND:20240417T220000Z
DESCRIPTION:MEAL INFO: Whitefish from Mackinac Straits Fish Company\, various sides and fresh desserts.\\nFree-will donations will be accepted for this meal.\\nTake-out meals will be available for pickup beginning at 5:00pm by PRE-ORDER ONLY.\\nCLICK HERE to Pre-order your takeout meals.\\n&nbsp\;\\n&nbsp\;\\n&nbsp\;\\n\\nhttps://www.tccentralumc.org/events/all-church-meal-whitefish-dinner/
LOCATION:222 Cass St. Traverse City\, MI  49684
URL:https://www.tccentralumc.org/events/all-church-meal-whitefish-dinner/
DTSTAMP:20260421T113628Z
END:VEVENT
END:VCALENDAR
